BEGIN:VCALENDAR
VERSION:2.0
PRODID:-//VCH Well Being for Deaf, HoH and DB - ECPv6.15.20//NONSGML v1.0//EN
CALSCALE:GREGORIAN
METHOD:PUBLISH
X-WR-CALNAME:VCH Well Being for Deaf, HoH and DB
X-ORIGINAL-URL:https://deafwellbeing.vch.ca
X-WR-CALDESC:Events for VCH Well Being for Deaf, HoH and DB
REFRESH-INTERVAL;VALUE=DURATION:PT1H
X-Robots-Tag:noindex
X-PUBLISHED-TTL:PT1H
BEGIN:VTIMEZONE
TZID:America/Vancouver
BEGIN:DAYLIGHT
TZOFFSETFROM:-0800
TZOFFSETTO:-0700
TZNAME:PDT
DTSTART:20220313T100000
END:DAYLIGHT
BEGIN:STANDARD
TZOFFSETFROM:-0700
TZOFFSETTO:-0800
TZNAME:PST
DTSTART:20221106T090000
END:STANDARD
BEGIN:DAYLIGHT
TZOFFSETFROM:-0800
TZOFFSETTO:-0700
TZNAME:PDT
DTSTART:20230312T100000
END:DAYLIGHT
BEGIN:STANDARD
TZOFFSETFROM:-0700
TZOFFSETTO:-0800
TZNAME:PST
DTSTART:20231105T090000
END:STANDARD
BEGIN:DAYLIGHT
TZOFFSETFROM:-0800
TZOFFSETTO:-0700
TZNAME:PDT
DTSTART:20240310T100000
END:DAYLIGHT
BEGIN:STANDARD
TZOFFSETFROM:-0700
TZOFFSETTO:-0800
TZNAME:PST
DTSTART:20241103T090000
END:STANDARD
END:VTIMEZONE
BEGIN:VEVENT
DTSTART;TZID=America/Vancouver:20231018T180000
DTEND;TZID=America/Vancouver:20231018T193000
DTSTAMP:20260419T101549
CREATED:20230928T231618Z
LAST-MODIFIED:20230928T232209Z
UID:10000949-1697652000-1697657400@deafwellbeing.vch.ca
SUMMARY:DBT Skills Group
DESCRIPTION:DBT Skills Group \nEmotion Regulation Skills help you increase positive emotions\, build healthy habits\, and live a meaningful life according to your values. \nWednesdays – 6 sessions\nOct 18 to Nov 22\n(must attend all)\n6 p.m. – 7:30 p.m. \nWBP office\n300-4211 Kingsway \nSign up or ask questions?\nEmail: Elizabeth.Dagg@vch.ca\nText/Video: 778-987-4179
URL:https://deafwellbeing.vch.ca/event/dbt-skills-group/2023-10-18/
LOCATION:Deaf Well-Being Program\, #300-4211 Kingsway\, Burnaby\, BC\, V5H 1Z6\, Canada
CATEGORIES:Therapy Group
ATTACH;FMTTYPE=image/png:https://deafwellbeing.vch.ca/wp-content/uploads/2023/09/DBT-Skills-Group-Fall-2023-1-e1695943039248.png
GEO:49.2325864;-123.0107085
X-APPLE-STRUCTURED-LOCATION;VALUE=URI;X-ADDRESS=Deaf Well-Being Program #300-4211 Kingsway Burnaby BC V5H 1Z6 Canada;X-APPLE-RADIUS=500;X-TITLE=#300-4211 Kingsway:geo:-123.0107085,49.2325864
END:VEVENT
END:VCALENDAR