BEGIN:VCALENDAR
VERSION:2.0
PRODID:-//VCH Well Being for Deaf, HoH and DB - ECPv6.15.20//NONSGML v1.0//EN
CALSCALE:GREGORIAN
METHOD:PUBLISH
X-WR-CALNAME:VCH Well Being for Deaf, HoH and DB
X-ORIGINAL-URL:https://deafwellbeing.vch.ca
X-WR-CALDESC:Events for VCH Well Being for Deaf, HoH and DB
REFRESH-INTERVAL;VALUE=DURATION:PT1H
X-Robots-Tag:noindex
X-PUBLISHED-TTL:PT1H
BEGIN:VTIMEZONE
TZID:America/Vancouver
BEGIN:DAYLIGHT
TZOFFSETFROM:-0800
TZOFFSETTO:-0700
TZNAME:PDT
DTSTART:20240310T100000
END:DAYLIGHT
BEGIN:STANDARD
TZOFFSETFROM:-0700
TZOFFSETTO:-0800
TZNAME:PST
DTSTART:20241103T090000
END:STANDARD
BEGIN:DAYLIGHT
TZOFFSETFROM:-0800
TZOFFSETTO:-0700
TZNAME:PDT
DTSTART:20250309T100000
END:DAYLIGHT
BEGIN:STANDARD
TZOFFSETFROM:-0700
TZOFFSETTO:-0800
TZNAME:PST
DTSTART:20251102T090000
END:STANDARD
BEGIN:DAYLIGHT
TZOFFSETFROM:-0800
TZOFFSETTO:-0700
TZNAME:PDT
DTSTART:20260308T100000
END:DAYLIGHT
BEGIN:STANDARD
TZOFFSETFROM:-0700
TZOFFSETTO:-0800
TZNAME:PST
DTSTART:20261101T090000
END:STANDARD
END:VTIMEZONE
BEGIN:VEVENT
DTSTART;TZID=America/Vancouver:20250524T100000
DTEND;TZID=America/Vancouver:20250524T120000
DTSTAMP:20260420T150810
CREATED:20250415T210505Z
LAST-MODIFIED:20250415T211424Z
UID:10001413-1748080800-1748088000@deafwellbeing.vch.ca
SUMMARY:Well-Being in a Small Community: Okanagan
DESCRIPTION:The flyer is for a presentation titled “Well-Being in a Small Community” organized by Vancouver Coastal Health’s Deaf\, Hard of Hearing\, and Deaf-Blind Well-Being Program. \nCome and learn about mental health\, mindfulness\, self-care\, and how to navigate conflicts and set boundaries\, particularly in a small Deaf/Deaf-Blind/HoH community. \nWhen and Where:\nSaturday\, May 24th\, 2025\, from 10 am to 12 pm\nWinfield United Church\n3759 Woodsdale Road\, Lake Country\, B.C.\, V4V 1X3. \nPizza\, sides\, and drinks will be provided.  \nFor those unable to attend in person\, contact information is provided: Hanna at Hanna.Farm@vch.ca. \nImage description provided with Be My Eyes.
URL:https://deafwellbeing.vch.ca/event/well-being-in-a-small-community-okanagan/
LOCATION:Winfield United Church\, 3751 Woodsdale Rd\, Lake Country\, BC\, Canada
CATEGORIES:Community Education,Okanagan
ATTACH;FMTTYPE=image/png:https://deafwellbeing.vch.ca/wp-content/uploads/2025/04/Kelowna-flyer-25-e1744744061676.png
END:VEVENT
END:VCALENDAR