BEGIN:VCALENDAR
VERSION:2.0
PRODID:-//VCH Well Being for Deaf, HoH and DB - ECPv6.15.20//NONSGML v1.0//EN
CALSCALE:GREGORIAN
METHOD:PUBLISH
X-WR-CALNAME:VCH Well Being for Deaf, HoH and DB
X-ORIGINAL-URL:https://deafwellbeing.vch.ca
X-WR-CALDESC:Events for VCH Well Being for Deaf, HoH and DB
REFRESH-INTERVAL;VALUE=DURATION:PT1H
X-Robots-Tag:noindex
X-PUBLISHED-TTL:PT1H
BEGIN:VTIMEZONE
TZID:America/Vancouver
BEGIN:DAYLIGHT
TZOFFSETFROM:-0800
TZOFFSETTO:-0700
TZNAME:PDT
DTSTART:20240310T100000
END:DAYLIGHT
BEGIN:STANDARD
TZOFFSETFROM:-0700
TZOFFSETTO:-0800
TZNAME:PST
DTSTART:20241103T090000
END:STANDARD
BEGIN:DAYLIGHT
TZOFFSETFROM:-0800
TZOFFSETTO:-0700
TZNAME:PDT
DTSTART:20250309T100000
END:DAYLIGHT
BEGIN:STANDARD
TZOFFSETFROM:-0700
TZOFFSETTO:-0800
TZNAME:PST
DTSTART:20251102T090000
END:STANDARD
BEGIN:DAYLIGHT
TZOFFSETFROM:-0800
TZOFFSETTO:-0700
TZNAME:PDT
DTSTART:20260308T100000
END:DAYLIGHT
BEGIN:STANDARD
TZOFFSETFROM:-0700
TZOFFSETTO:-0800
TZNAME:PST
DTSTART:20261101T090000
END:STANDARD
END:VTIMEZONE
BEGIN:VEVENT
DTSTART;TZID=America/Vancouver:20250927T110000
DTEND;TZID=America/Vancouver:20250927T123000
DTSTAMP:20260419T223711
CREATED:20250909T234556Z
LAST-MODIFIED:20250911T164154Z
UID:10001440-1758970800-1758976200@deafwellbeing.vch.ca
SUMMARY:Well-Being in a Small Community - Kelowna
DESCRIPTION:Image description provided with Be My Eyes. \nFlyer advertising a presentation titled “WELL-BEING IN A SMALL COMMUNITY\,” presented in American Sign Language (ASL) by the Vancouver Coastal Health Deaf\, Hard of Hearing and Deaf-Blind Well-Being Program. The event is about mental health\, mindfulness\, self-care\, and navigating conflicts and boundaries\, especially in a small Deaf/Deaf-Blind/HoH (Hard of Hearing) community.  \nDate and time: Saturday\, September 27th\, 2025\, from 11:00 am to 12:30 pm.\nLocation: Winfield United Church\, 3751 Woodsdale Road\, Lake Country\, B.C.\, V4V 1X2.\nFor those who can’t attend in person\, it gives contact information for Hanna: Hanna.Ferm@vch.ca \n————————————————————————— \nText version of the flyer: \nPRESENTATION IN ASL:\n“WELL-BEING IN A SMALL COMMUNITY”\nCome learn about mental health\, mindfulness and self-care\, and how to navigate conflicts and set boundaries\, especially when we live in a small Deaf/Deaf-Blind/HoH community. \nSaturday\, September 27th\, 2025 / 11 am – 12:30 pm\nAddress: Winfield United Church\n         3751 Woodsdale Road Lake Country\, B.C. V4V 1X2\nWant to attend but can’t in person? Contact Hanna: Hanna.Ferm@vch.ca
URL:https://deafwellbeing.vch.ca/event/well-being-in-a-small-community-kelowna/
LOCATION:Winfield United Church\, 3751 Woodsdale Rd\, Lake Country\, BC\, Canada
CATEGORIES:Kelowna,Okanagan,Workshop
ATTACH;FMTTYPE=image/png:https://deafwellbeing.vch.ca/wp-content/uploads/2025/09/Kelowna-flyer-25-1-e1757461513735.avif
END:VEVENT
END:VCALENDAR