BEGIN:VCALENDAR
VERSION:2.0
PRODID:-//VCH Well Being for Deaf, HoH and DB - ECPv6.15.20//NONSGML v1.0//EN
CALSCALE:GREGORIAN
METHOD:PUBLISH
X-WR-CALNAME:VCH Well Being for Deaf, HoH and DB
X-ORIGINAL-URL:https://deafwellbeing.vch.ca
X-WR-CALDESC:Events for VCH Well Being for Deaf, HoH and DB
REFRESH-INTERVAL;VALUE=DURATION:PT1H
X-Robots-Tag:noindex
X-PUBLISHED-TTL:PT1H
BEGIN:VTIMEZONE
TZID:America/Vancouver
BEGIN:DAYLIGHT
TZOFFSETFROM:-0800
TZOFFSETTO:-0700
TZNAME:PDT
DTSTART:20240310T100000
END:DAYLIGHT
BEGIN:STANDARD
TZOFFSETFROM:-0700
TZOFFSETTO:-0800
TZNAME:PST
DTSTART:20241103T090000
END:STANDARD
BEGIN:DAYLIGHT
TZOFFSETFROM:-0800
TZOFFSETTO:-0700
TZNAME:PDT
DTSTART:20250309T100000
END:DAYLIGHT
BEGIN:STANDARD
TZOFFSETFROM:-0700
TZOFFSETTO:-0800
TZNAME:PST
DTSTART:20251102T090000
END:STANDARD
BEGIN:DAYLIGHT
TZOFFSETFROM:-0800
TZOFFSETTO:-0700
TZNAME:PDT
DTSTART:20260308T100000
END:DAYLIGHT
BEGIN:STANDARD
TZOFFSETFROM:-0700
TZOFFSETTO:-0800
TZNAME:PST
DTSTART:20261101T090000
END:STANDARD
END:VTIMEZONE
BEGIN:VEVENT
DTSTART;TZID=America/Vancouver:20250322T143000
DTEND;TZID=America/Vancouver:20250322T160000
DTSTAMP:20260420T044021
CREATED:20250304T233018Z
LAST-MODIFIED:20250305T002254Z
UID:10001398-1742653800-1742659200@deafwellbeing.vch.ca
SUMMARY:Workshop - Prince George
DESCRIPTION:SAVE THE DATE! \nElizabeth Dagg will go to Prince George on Saturday\, March 22 to give a community workshop. It is open to everyone. It will be in sign language. \nWhere: AiMHi at 950 Kerry Street in Prince George\, BC. \nTime: 2:30 pm to 4 pm \nQuestions? Contact Elizabeth by email elizabeth.dagg@vch.ca or text/video 778-987-4179
URL:https://deafwellbeing.vch.ca/event/workshop-prince-george/
LOCATION:AiMHi\, 950 Kerry Street\, Prince George\, BC\, V2M 5A3\, Canada
CATEGORIES:Prince George
ATTACH;FMTTYPE=image/png:https://deafwellbeing.vch.ca/wp-content/uploads/2025/03/PG-workshop-e1741131009222.png
END:VEVENT
END:VCALENDAR